Back to Multiple platform build/check report for BioC 3.15
ABCDEFGHIJKLMNOPQRSTUV[W]XYZ

This page was generated on 2022-05-20 12:04:57 -0400 (Fri, 20 May 2022).

HostnameOSArch (*)R versionInstalled pkgs
nebbiolo1Linux (Ubuntu 20.04.4 LTS)x86_644.2.0 (2022-04-22) -- "Vigorous Calisthenics" 4380
palomino3Windows Server 2022 Datacenterx644.2.0 (2022-04-22 ucrt) -- "Vigorous Calisthenics" 4155
merida1macOS 10.14.6 Mojavex86_644.2.0 (2022-04-22) -- "Vigorous Calisthenics" 4221
Click on any hostname to see more info about the system (e.g. compilers)      (*) as reported by 'uname -p', except on Windows and Mac OS X

All results for package wateRmelon


To the developers/maintainers of the wateRmelon package:
- Please allow up to 24 hours (and sometimes 48 hours) for your latest push to git@git.bioconductor.org:packages/wateRmelon.git to
reflect on this report. See How and When does the builder pull? When will my changes propagate? for more information.
- Make sure to use the following settings in order to reproduce any error or warning you see on this page.

raw results

Package 2115/2140HostnameOS / ArchINSTALLBUILDCHECKBUILD BIN
wateRmelon 2.2.0  (landing page)
Leo C Schalkwyk
Snapshot Date: 2022-05-19 13:55:15 -0400 (Thu, 19 May 2022)
git_url: https://git.bioconductor.org/packages/wateRmelon
git_branch: RELEASE_3_15
git_last_commit: 6ec49ef
git_last_commit_date: 2022-04-26 11:12:59 -0400 (Tue, 26 Apr 2022)
nebbiolo1Linux (Ubuntu 20.04.4 LTS) / x86_64  OK    OK    OK  UNNEEDED, same version is already published
palomino3Windows Server 2022 Datacenter / x64  OK    OK    OK    OK  UNNEEDED, same version is already published
merida1macOS 10.14.6 Mojave / x86_64  OK    OK    OK    OK  UNNEEDED, same version is already published

Results for Bioconductor software packages that depend directly on package wateRmelon

QUICK STATSOS / ArchINSTALLBUILDCHECKBUILD BIN
nebbiolo1Linux (Ubuntu 20.04.4 LTS) / x86_64
004
004
0031
palomino3Windows Server 2022 Datacenter / x64
004
004
0031
004
merida1macOS 10.14.6 Mojave / x86_64
004
004
0031
004
Package 1/4HostnameOS / ArchINSTALLBUILDCHECKBUILD BIN
bigmelon 1.22.0  (landing page)
Tyler J. Gorrie-Stone
git_last_commit: 94e8b0f
git_last_commit_date: 2022-04-26 11:35:38 -0400
nebbiolo1Linux (Ubuntu 20.04.4 LTS) / x86_64  OK    OK    WARNINGS  UNNEEDED, same version is already published
palomino3Windows Server 2022 Datacenter / x64  OK    OK    WARNINGS    OK  UNNEEDED, same version is already published
merida1macOS 10.14.6 Mojave / x86_64  OK    OK    WARNINGS    OK  UNNEEDED, same version is already published
Package 2/4HostnameOS / ArchINSTALLBUILDCHECKBUILD BIN
ChAMP 2.26.0  (landing page)
Yuan Tian
git_last_commit: 1548910
git_last_commit_date: 2022-04-26 11:16:54 -0400
nebbiolo1Linux (Ubuntu 20.04.4 LTS) / x86_64  OK    OK    WARNINGS  UNNEEDED, same version is already published
palomino3Windows Server 2022 Datacenter / x64  OK    OK    WARNINGS    OK  NO, package depends on 'DMRcate' which is not available
merida1macOS 10.14.6 Mojave / x86_64  OK    OK    WARNINGS    OK  UNNEEDED, same version is already published
Package 3/4HostnameOS / ArchINSTALLBUILDCHECKBUILD BIN
MEAT 1.8.0  (landing page)
Sarah Voisin
git_last_commit: f77426c
git_last_commit_date: 2022-04-26 12:02:27 -0400
nebbiolo1Linux (Ubuntu 20.04.4 LTS) / x86_64  OK    OK    WARNINGS  UNNEEDED, same version is already published
palomino3Windows Server 2022 Datacenter / x64  OK    OK    WARNINGS    OK  UNNEEDED, same version is already published
merida1macOS 10.14.6 Mojave / x86_64  OK    OK    WARNINGS    OK  UNNEEDED, same version is already published
Package 4/4HostnameOS / ArchINSTALLBUILDCHECKBUILD BIN
skewr 1.28.0  (landing page)
Ryan Putney
git_last_commit: fd2672c
git_last_commit_date: 2022-04-26 11:23:56 -0400
nebbiolo1Linux (Ubuntu 20.04.4 LTS) / x86_64  OK    OK    OK  UNNEEDED, same version is already published
palomino3Windows Server 2022 Datacenter / x64  OK    OK    OK    OK  UNNEEDED, same version is already published
merida1macOS 10.14.6 Mojave / x86_64  OK    OK    OK    OK  UNNEEDED, same version is already published