Index of /checkResults/release/bioc-LATEST/waddR/raw-results/merida1
Name
Last modified
Size
Description
Parent Directory
-
buildsrc-out.txt
05-Mar-2024 01:40
2.3K
buildsrc-summary.dcf
05-Mar-2024 01:40
340
install-out.txt
05-Mar-2024 01:40
2.8K
install-summary.dcf
05-Mar-2024 01:40
266