Index of /checkResults/release/bioc-LATEST/waddR/raw-results/lconway
Name
Last modified
Size
Description
Parent Directory
-
buildsrc-out.txt
05-May-2024 00:40
2.3K
buildsrc-summary.dcf
05-May-2024 00:40
339
install-out.txt
05-May-2024 00:40
2.8K
install-summary.dcf
05-May-2024 00:40
265