Back to Multiple platform build/check report for BioC 3.14
ABCDEFGHIJKLMNOPQRSTU[V]WXYZ

This page was generated on 2022-01-24 13:07:12 -0500 (Mon, 24 Jan 2022).

HostnameOSArch (*)R versionInstalled pkgs
nebbiolo2Linux (Ubuntu 20.04.4 LTS)x86_644.1.2 (2021-11-01) -- "Bird Hippie" 4329
tokay2Windows Server 2012 R2 Standardx644.1.2 (2021-11-01) -- "Bird Hippie" 4080
machv2macOS 10.14.6 Mojavex86_644.1.2 (2021-11-01) -- "Bird Hippie" 4141
Click on any hostname to see more info about the system (e.g. compilers)      (*) as reported by 'uname -p', except on Windows and Mac OS X

BUILD BIN results for vulcan on tokay2


To the developers/maintainers of the vulcan package:
- Please allow up to 24 hours (and sometimes 48 hours) for your latest push to git@git.bioconductor.org:packages/vulcan.git to
reflect on this report. See How and When does the builder pull? When will my changes propagate? here for more information.
- Make sure to use the following settings in order to reproduce any error or warning you see on this page.

raw results

Package 2057/2083HostnameOS / ArchINSTALLBUILDCHECKBUILD BIN
vulcan 1.16.0  (landing page)
Federico M. Giorgi
Snapshot Date: 2022-01-23 01:55:04 -0500 (Sun, 23 Jan 2022)
git_url: https://git.bioconductor.org/packages/vulcan
git_branch: RELEASE_3_14
git_last_commit: b25ca79
git_last_commit_date: 2021-10-26 12:38:33 -0500 (Tue, 26 Oct 2021)
nebbiolo2Linux (Ubuntu 20.04.4 LTS) / x86_64  OK    OK    OK  UNNEEDED, same version is already published
tokay2Windows Server 2012 R2 Standard / x64  OK    OK    OK    OK  UNNEEDED, same version is already published
machv2macOS 10.14.6 Mojave / x86_64  OK    OK    OK    OK  UNNEEDED, same version is already published

Summary

Package: vulcan
Version: 1.16.0
Command: rm -rf vulcan.buildbin-libdir && mkdir vulcan.buildbin-libdir && C:\Users\biocbuild\bbs-3.14-bioc\R\bin\R.exe CMD INSTALL --merge-multiarch --build --library=vulcan.buildbin-libdir vulcan_1.16.0.tar.gz
StartedAt: 2022-01-24 06:59:44 -0500 (Mon, 24 Jan 2022)
EndedAt: 2022-01-24 07:01:13 -0500 (Mon, 24 Jan 2022)
EllapsedTime: 88.9 seconds
RetCode: 0
Status:   OK  
PackageFile: vulcan_1.16.0.zip
PackageFileSize: 411.4 KiB

Command output

##############################################################################
##############################################################################
###
### Running command:
###
###   rm -rf vulcan.buildbin-libdir && mkdir vulcan.buildbin-libdir && C:\Users\biocbuild\bbs-3.14-bioc\R\bin\R.exe CMD INSTALL --merge-multiarch --build --library=vulcan.buildbin-libdir vulcan_1.16.0.tar.gz
###
##############################################################################
##############################################################################



install for i386

* installing *source* package 'vulcan' ...
** using staged installation
** R
** inst
** byte-compile and prepare package for lazy loading
** help
*** installing help indices
  converting help for package 'vulcan'
    finding HTML links ... done
    average_fragment_length                 html  
    corr2p                                  html  
    densityauc                              html  
    dpareto                                 html  
    fisherp                                 html  
    gsea                                    html  
    kmgformat                               html  
    null_gsea                               html  
    p2corr                                  html  
    p2z                                     html  
    pareto.fit                              html  
    plot_gsea                               html  
    ppareto                                 html  
    rea                                     html  
    slice                                   html  
    stouffer                                html  
    textplot2                               html  
    val2col                                 html  
    vulcan                                  html  
    vulcan.annotate                         html  
    vulcan.import                           html  
    vulcan.normalize                        html  
    vulcan.pathways                         html  
    wstouffer                               html  
    z2p                                     html  
** building package indices
** installing vignettes
** testing if installed package can be loaded from temporary location
** testing if installed package can be loaded from final location
** testing if installed package keeps a record of temporary installation path

install for x64

* installing *source* package 'vulcan' ...
** testing if installed package can be loaded
* MD5 sums
packaged installation of 'vulcan' as vulcan_1.16.0.zip
* DONE (vulcan)