Index of /checkResults/release/bioc-LATEST/vulcan/raw-results

[ICO]NameLast modifiedSizeDescription

[DIR]Parent Directory  -  
[   ]info.dcf26-Nov-2022 01:10 280  
[DIR]kjohnson/12-Jul-2022 00:07 -  
[DIR]lconway/26-Nov-2022 01:10 -  
[DIR]nebbiolo2/26-Nov-2022 01:06 -  
[DIR]palomino4/26-Nov-2022 01:08 -