Name | Last modified | Size | Description | |
---|---|---|---|---|
Parent Directory | - | |||
install-summary.dcf | 10-May-2024 00:41 | 268 | ||
install-out.txt | 10-May-2024 00:41 | 971 | ||
checksrc-summary.dcf | 09-May-2024 00:41 | 447 | ||
checksrc-out.txt | 09-May-2024 00:41 | 6.2K | ||
buildsrc-summary.dcf | 10-May-2024 00:41 | 426 | ||
buildsrc-out.txt | 10-May-2024 00:41 | 876 | ||