Back to Multiple platform build/check report for BioC 3.14
ABCDEFGHIJKLMNOPQRSTU[V]WXYZ

This page was generated on 2021-11-29 15:05:45 -0500 (Mon, 29 Nov 2021).

BUILD results for velociraptor on tokay2

To the developers/maintainers of the velociraptor package:
- Please allow up to 24 hours (and sometimes 48 hours) for your latest push to git@git.bioconductor.org:packages/velociraptor.git to
reflect on this report. See How and When does the builder pull? When will my changes propagate? here for more information.
- Make sure to use the following settings in order to reproduce any error or warning you see on this page.

raw results

Package 2046/2083HostnameOS / ArchINSTALLBUILDCHECKBUILD BIN
velociraptor 1.4.0  (landing page)
Kevin Rue-Albrecht
Snapshot Date: 2021-11-28 04:15:06 -0500 (Sun, 28 Nov 2021)
git_url: https://git.bioconductor.org/packages/velociraptor
git_branch: RELEASE_3_14
git_last_commit: ca6d3dc
git_last_commit_date: 2021-10-26 13:03:06 -0500 (Tue, 26 Oct 2021)
nebbiolo2Linux (Ubuntu 20.04.3 LTS) / x86_64  OK    OK    OK  UNNEEDED, same version is already published
tokay2Windows Server 2012 R2 Standard / x64  OK    OK    OK    OK  UNNEEDED, same version is already published
machv2macOS 10.14.6 Mojave / x86_64  OK    OK    OK    OK  UNNEEDED, same version is already published

Summary

Package: velociraptor
Version: 1.4.0
Command: chmod a+r velociraptor -R && C:\Users\biocbuild\bbs-3.14-bioc\R\bin\R.exe --arch x64 CMD build --keep-empty-dirs --no-resave-data velociraptor
StartedAt: 2021-11-28 17:33:08 -0500 (Sun, 28 Nov 2021)
EndedAt: 2021-11-28 17:37:54 -0500 (Sun, 28 Nov 2021)
EllapsedTime: 285.9 seconds
RetCode: 0
Status:   OK  
PackageFile: velociraptor_1.4.0.tar.gz
PackageFileSize: 528.7 KiB

Command output

##############################################################################
##############################################################################
###
### Running command:
###
###   chmod a+r velociraptor -R && C:\Users\biocbuild\bbs-3.14-bioc\R\bin\R.exe --arch x64 CMD build --keep-empty-dirs --no-resave-data velociraptor
###
##############################################################################
##############################################################################


* checking for file 'velociraptor/DESCRIPTION' ... OK
* preparing 'velociraptor':
* checking DESCRIPTION meta-information ... OK
* installing the package to build vignettes
* creating vignettes ... OK
* checking for LF line-endings in source and make files and shell scripts
* checking for empty or unneeded directories
* building 'velociraptor_1.4.0.tar.gz'
Warning: file 'velociraptor/configure' did not have execute permissions: corrected