![]() | Name | Last modified | Size | Description |
---|---|---|---|---|
![]() | Parent Directory | - | ||
![]() | buildsrc-out.txt | 04-Oct-2023 00:36 | 826 | |
![]() | buildsrc-summary.dcf | 04-Oct-2023 00:36 | 433 | |
![]() | checksrc-out.txt | 04-Oct-2023 00:36 | 3.7K | |
![]() | checksrc-summary.dcf | 04-Oct-2023 00:36 | 434 | |
![]() | install-out.txt | 04-Oct-2023 00:36 | 847 | |
![]() | install-summary.dcf | 04-Oct-2023 00:36 | 269 | |