Name | Last modified | Size | Description | |
---|---|---|---|---|
Parent Directory | - | |||
buildbin-out.txt | 24-Jul-2024 22:06 | 1.1K | ||
buildbin-summary.dcf | 24-Jul-2024 22:06 | 560 | ||
buildsrc-out.txt | 24-Jul-2024 22:06 | 836 | ||
buildsrc-summary.dcf | 24-Jul-2024 22:06 | 441 | ||
checksrc-out.txt | 24-Jul-2024 22:06 | 3.8K | ||
checksrc-summary.dcf | 24-Jul-2024 22:06 | 464 | ||
install-out.txt | 24-Jul-2024 22:06 | 882 | ||
install-summary.dcf | 24-Jul-2024 22:06 | 279 | ||