Name | Last modified | Size | Description | |
---|---|---|---|---|
Parent Directory | - | |||
install-out.txt | 12-Jun-2024 03:43 | 882 | ||
install-summary.dcf | 12-Jun-2024 03:43 | 279 | ||
buildsrc-summary.dcf | 12-Jun-2024 03:43 | 443 | ||
buildsrc-out.txt | 12-Jun-2024 03:43 | 836 | ||
checksrc-out.txt | 12-Jun-2024 03:43 | 3.8K | ||
checksrc-summary.dcf | 12-Jun-2024 03:43 | 464 | ||
buildbin-out.txt | 12-Jun-2024 03:43 | 1.1K | ||
buildbin-summary.dcf | 12-Jun-2024 03:43 | 560 | ||