Name | Last modified | Size | Description | |
---|---|---|---|---|
Parent Directory | - | |||
install-summary.dcf | 24-Jul-2024 22:08 | 279 | ||
buildsrc-summary.dcf | 24-Jul-2024 22:08 | 443 | ||
checksrc-summary.dcf | 24-Jul-2024 22:08 | 464 | ||
buildbin-summary.dcf | 24-Jul-2024 22:08 | 560 | ||
buildsrc-out.txt | 24-Jul-2024 22:08 | 836 | ||
install-out.txt | 24-Jul-2024 22:08 | 881 | ||
buildbin-out.txt | 24-Jul-2024 22:08 | 1.1K | ||
checksrc-out.txt | 24-Jul-2024 22:08 | 3.8K | ||