Back to Multiple platform build/check report for BioC 3.14
ABCDEFGHIJKLMNOPQRSTU[V]WXYZ

This page was generated on 2021-11-29 15:06:17 -0500 (Mon, 29 Nov 2021).

INSTALL results for velociraptor on machv2

To the developers/maintainers of the velociraptor package:
- Please allow up to 24 hours (and sometimes 48 hours) for your latest push to git@git.bioconductor.org:packages/velociraptor.git to
reflect on this report. See How and When does the builder pull? When will my changes propagate? here for more information.
- Make sure to use the following settings in order to reproduce any error or warning you see on this page.

raw results

Package 2046/2083HostnameOS / ArchINSTALLBUILDCHECKBUILD BIN
velociraptor 1.4.0  (landing page)
Kevin Rue-Albrecht
Snapshot Date: 2021-11-28 04:15:06 -0500 (Sun, 28 Nov 2021)
git_url: https://git.bioconductor.org/packages/velociraptor
git_branch: RELEASE_3_14
git_last_commit: ca6d3dc
git_last_commit_date: 2021-10-26 13:03:06 -0500 (Tue, 26 Oct 2021)
nebbiolo2Linux (Ubuntu 20.04.3 LTS) / x86_64  OK    OK    OK  UNNEEDED, same version is already published
tokay2Windows Server 2012 R2 Standard / x64  OK    OK    OK    OK  UNNEEDED, same version is already published
machv2macOS 10.14.6 Mojave / x86_64  OK    OK    OK    OK  UNNEEDED, same version is already published

Summary

Package: velociraptor
Version: 1.4.0
Command: /Library/Frameworks/R.framework/Resources/bin/R CMD INSTALL velociraptor
StartedAt: 2021-11-28 06:11:38 -0500 (Sun, 28 Nov 2021)
EndedAt: 2021-11-28 06:12:26 -0500 (Sun, 28 Nov 2021)
EllapsedTime: 48.8 seconds
RetCode: 0
Status:   OK  

Command output

##############################################################################
##############################################################################
###
### Running command:
###
###   /Library/Frameworks/R.framework/Resources/bin/R CMD INSTALL velociraptor
###
##############################################################################
##############################################################################


* installing to library ‘/Library/Frameworks/R.framework/Versions/4.1/Resources/library’
* installing *source* package ‘velociraptor’ ...
** using non-staged installation via StagedInstall field
** R
** inst
** byte-compile and prepare package for lazy loading
** help
*** installing help indices
*** copying figures
** building package indices
** installing vignettes
** testing if installed package can be loaded
* DONE (velociraptor)