Back to Multiple platform build/check report for BioC 3.12
ABCDEFGHIJKLMNOPQRSTU[V]WXYZ

Multiple platform build/check report for BioC 3.12

Results for variancePartition

This page was generated on 2020-11-25 11:49:38 -0500 (Wed, 25 Nov 2020).

Package 1929/1974HostnameOS / ArchINSTALLBUILDCHECKBUILD BIN
variancePartition 1.20.0
Gabriel E. Hoffman
Snapshot Date: 2020-11-24 14:40:26 -0500 (Tue, 24 Nov 2020)
URL: https://git.bioconductor.org/packages/variancePartition
Branch: RELEASE_3_12
Last Commit: bd06b39
Last Changed Date: 2020-10-27 11:06:58 -0500 (Tue, 27 Oct 2020)
malbec1 Linux (Ubuntu 18.04.4 LTS) / x86_64  OK  OK  OK UNNEEDED, same version exists in internal repository
nebbiolo1 Linux (Ubuntu 20.04.1 LTS) / x86_64  OK  OK  OK 
tokay1 Windows Server 2012 R2 Standard / x64  OK  OK  OK  OK UNNEEDED, same version exists in internal repository
merida1 macOS 10.14.6 Mojave / x86_64  OK  OK  OK  OK UNNEEDED, same version exists in internal repository