Name | Last modified | Size | Description | |
---|---|---|---|---|
Parent Directory | - | |||
merida1/ | 05-Mar-2024 01:40 | - | ||
kunpeng2/ | 10-May-2024 00:41 | - | ||
info.dcf | 12-Jun-2024 03:39 | 287 | ||
nebbiolo1/ | 12-Jun-2024 03:40 | - | ||
palomino3/ | 12-Jun-2024 03:41 | - | ||
lconway/ | 12-Jun-2024 03:43 | - | ||
kjohnson3/ | 12-Jun-2024 03:44 | - | ||