Index of /checkResults/release/bioc-LATEST/universalmotif/raw-results
Name
Last modified
Size
Description
Parent Directory
-
merida1/
05-Mar-2024 01:40
-
info.dcf
05-May-2024 00:36
311
nebbiolo1/
05-May-2024 00:37
-
palomino3/
05-May-2024 00:38
-
lconway/
05-May-2024 00:40
-
kunpeng2/
05-May-2024 00:41
-