Back to Multiple platform build/check report for BioC 3.14
ABCDEFGHIJKLMNOPQRS[T]UVWXYZ

This page was generated on 2022-01-26 13:07:32 -0500 (Wed, 26 Jan 2022).

HostnameOSArch (*)R versionInstalled pkgs
nebbiolo2Linux (Ubuntu 20.04.4 LTS)x86_644.1.2 (2021-11-01) -- "Bird Hippie" 4329
tokay2Windows Server 2012 R2 Standardx644.1.2 (2021-11-01) -- "Bird Hippie" 4080
machv2macOS 10.14.6 Mojavex86_644.1.2 (2021-11-01) -- "Bird Hippie" 4141
Click on any hostname to see more info about the system (e.g. compilers)      (*) as reported by 'uname -p', except on Windows and Mac OS X

BUILD BIN results for tweeDEseq on tokay2


To the developers/maintainers of the tweeDEseq package:
- Please allow up to 24 hours (and sometimes 48 hours) for your latest push to git@git.bioconductor.org:packages/tweeDEseq.git to
reflect on this report. See How and When does the builder pull? When will my changes propagate? here for more information.
- Make sure to use the following settings in order to reproduce any error or warning you see on this page.

raw results

Package 2018/2083HostnameOS / ArchINSTALLBUILDCHECKBUILD BIN
tweeDEseq 1.40.0  (landing page)
Juan R Gonzalez
Snapshot Date: 2022-01-25 01:55:07 -0500 (Tue, 25 Jan 2022)
git_url: https://git.bioconductor.org/packages/tweeDEseq
git_branch: RELEASE_3_14
git_last_commit: ef3a739
git_last_commit_date: 2021-10-26 12:01:13 -0500 (Tue, 26 Oct 2021)
nebbiolo2Linux (Ubuntu 20.04.4 LTS) / x86_64  OK    OK    OK  UNNEEDED, same version is already published
tokay2Windows Server 2012 R2 Standard / x64  OK    OK    OK    OK  UNNEEDED, same version is already published
machv2macOS 10.14.6 Mojave / x86_64  OK    OK    OK    OK  UNNEEDED, same version is already published

Summary

Package: tweeDEseq
Version: 1.40.0
Command: rm -rf tweeDEseq.buildbin-libdir && mkdir tweeDEseq.buildbin-libdir && C:\Users\biocbuild\bbs-3.14-bioc\R\bin\R.exe CMD INSTALL --merge-multiarch --build --library=tweeDEseq.buildbin-libdir tweeDEseq_1.40.0.tar.gz
StartedAt: 2022-01-26 07:17:29 -0500 (Wed, 26 Jan 2022)
EndedAt: 2022-01-26 07:17:50 -0500 (Wed, 26 Jan 2022)
EllapsedTime: 20.8 seconds
RetCode: 0
Status:   OK  
PackageFile: tweeDEseq_1.40.0.zip
PackageFileSize: 528.4 KiB

Command output

##############################################################################
##############################################################################
###
### Running command:
###
###   rm -rf tweeDEseq.buildbin-libdir && mkdir tweeDEseq.buildbin-libdir && C:\Users\biocbuild\bbs-3.14-bioc\R\bin\R.exe CMD INSTALL --merge-multiarch --build --library=tweeDEseq.buildbin-libdir tweeDEseq_1.40.0.tar.gz
###
##############################################################################
##############################################################################



install for i386

* installing *source* package 'tweeDEseq' ...
** using staged installation
** libs
"C:/rtools40/mingw32/bin/"gcc  -I"C:/Users/BIOCBU~1/BBS-3~1.14-/R/include" -DNDEBUG     -I"C:/extsoft/include"     -O2 -Wall  -std=gnu99 -mfpmath=sse -msse2 -mstackrealign  -c cov_wt_C.c -o cov_wt_C.o
cov_wt_C.c: In function 'cov_wt_C':
cov_wt_C.c:79:14: warning: 'wvar' may be used uninitialized in this function [-Wmaybe-uninitialized]
   free(aux), free(wvar), free(y);
              ^~~~~~~~~~
cov_wt_C.c: In function 'momentEstimates_wt_C':
cov_wt_C.c:154:12: warning: 'moments' may be used uninitialized in this function [-Wmaybe-uninitialized]
   free(y), free(moments), free(aux);
            ^~~~~~~~~~~~~
"C:/rtools40/mingw32/bin/"gcc  -I"C:/Users/BIOCBU~1/BBS-3~1.14-/R/include" -DNDEBUG     -I"C:/extsoft/include"     -O2 -Wall  -std=gnu99 -mfpmath=sse -msse2 -mstackrealign  -c init_tweeDEseq.c -o init_tweeDEseq.o
"C:/rtools40/mingw32/bin/"gcc  -I"C:/Users/BIOCBU~1/BBS-3~1.14-/R/include" -DNDEBUG     -I"C:/extsoft/include"     -O2 -Wall  -std=gnu99 -mfpmath=sse -msse2 -mstackrealign  -c loglikGlm.c -o loglikGlm.o
"C:/rtools40/mingw32/bin/"gcc  -I"C:/Users/BIOCBU~1/BBS-3~1.14-/R/include" -DNDEBUG     -I"C:/extsoft/include"     -O2 -Wall  -std=gnu99 -mfpmath=sse -msse2 -mstackrealign  -c logprobs.c -o logprobs.o
"C:/rtools40/mingw32/bin/"gcc  -I"C:/Users/BIOCBU~1/BBS-3~1.14-/R/include" -DNDEBUG     -I"C:/extsoft/include"     -O2 -Wall  -std=gnu99 -mfpmath=sse -msse2 -mstackrealign  -c permtest.c -o permtest.o
"C:/rtools40/mingw32/bin/"gcc  -I"C:/Users/BIOCBU~1/BBS-3~1.14-/R/include" -DNDEBUG     -I"C:/extsoft/include"     -O2 -Wall  -std=gnu99 -mfpmath=sse -msse2 -mstackrealign  -c probs.c -o probs.o
"C:/rtools40/mingw32/bin/"gcc  -I"C:/Users/BIOCBU~1/BBS-3~1.14-/R/include" -DNDEBUG     -I"C:/extsoft/include"     -O2 -Wall  -std=gnu99 -mfpmath=sse -msse2 -mstackrealign  -c zhu2.c -o zhu2.o
"C:/rtools40/mingw32/bin/"gcc  -I"C:/Users/BIOCBU~1/BBS-3~1.14-/R/include" -DNDEBUG     -I"C:/extsoft/include"     -O2 -Wall  -std=gnu99 -mfpmath=sse -msse2 -mstackrealign  -c zhu3.c -o zhu3.o
C:/rtools40/mingw32/bin/gcc -shared -s -static-libgcc -o tweeDEseq.dll tmp.def cov_wt_C.o init_tweeDEseq.o loglikGlm.o logprobs.o permtest.o probs.o zhu2.o zhu3.o -LC:/extsoft/lib/i386 -LC:/extsoft/lib -LC:/Users/BIOCBU~1/BBS-3~1.14-/R/bin/i386 -lR
installing to C:/Users/biocbuild/bbs-3.14-bioc/meat/tweeDEseq.buildbin-libdir/00LOCK-tweeDEseq/00new/tweeDEseq/libs/i386
** R
** data
** inst
** byte-compile and prepare package for lazy loading
** help
*** installing help indices
  converting help for package 'tweeDEseq'
    finding HTML links ... done
    compareCountDistributions               html  
    distPoissonTweedie                      html  
    filterCounts                            html  
    glmPT                                   html  
    gofTest                                 html  
    mlePoissonTweedie                       html  
    normalizeCounts                         html  
    print.mlePT                             html  
    qqchisq                                 html  
    finding level-2 HTML links ... done

    seizure                                 html  
    testShapePT                             html  
    tweeDE                                  html  
    tweeDEseq-internal                      html  
    tweeDExact                              html  
** building package indices
** installing vignettes
** testing if installed package can be loaded from temporary location
** testing if installed package can be loaded from final location
** testing if installed package keeps a record of temporary installation path

install for x64

* installing *source* package 'tweeDEseq' ...
** libs
"C:/rtools40/mingw64/bin/"gcc  -I"C:/Users/BIOCBU~1/BBS-3~1.14-/R/include" -DNDEBUG     -I"C:/extsoft/include"     -O2 -Wall  -std=gnu99 -mfpmath=sse -msse2 -mstackrealign  -c cov_wt_C.c -o cov_wt_C.o
cov_wt_C.c: In function 'cov_wt_C':
cov_wt_C.c:79:14: warning: 'wvar' may be used uninitialized in this function [-Wmaybe-uninitialized]
   free(aux), free(wvar), free(y);
              ^~~~~~~~~~
cov_wt_C.c: In function 'momentEstimates_wt_C':
cov_wt_C.c:154:12: warning: 'moments' may be used uninitialized in this function [-Wmaybe-uninitialized]
   free(y), free(moments), free(aux);
            ^~~~~~~~~~~~~
"C:/rtools40/mingw64/bin/"gcc  -I"C:/Users/BIOCBU~1/BBS-3~1.14-/R/include" -DNDEBUG     -I"C:/extsoft/include"     -O2 -Wall  -std=gnu99 -mfpmath=sse -msse2 -mstackrealign  -c init_tweeDEseq.c -o init_tweeDEseq.o
"C:/rtools40/mingw64/bin/"gcc  -I"C:/Users/BIOCBU~1/BBS-3~1.14-/R/include" -DNDEBUG     -I"C:/extsoft/include"     -O2 -Wall  -std=gnu99 -mfpmath=sse -msse2 -mstackrealign  -c loglikGlm.c -o loglikGlm.o
"C:/rtools40/mingw64/bin/"gcc  -I"C:/Users/BIOCBU~1/BBS-3~1.14-/R/include" -DNDEBUG     -I"C:/extsoft/include"     -O2 -Wall  -std=gnu99 -mfpmath=sse -msse2 -mstackrealign  -c logprobs.c -o logprobs.o
"C:/rtools40/mingw64/bin/"gcc  -I"C:/Users/BIOCBU~1/BBS-3~1.14-/R/include" -DNDEBUG     -I"C:/extsoft/include"     -O2 -Wall  -std=gnu99 -mfpmath=sse -msse2 -mstackrealign  -c permtest.c -o permtest.o
"C:/rtools40/mingw64/bin/"gcc  -I"C:/Users/BIOCBU~1/BBS-3~1.14-/R/include" -DNDEBUG     -I"C:/extsoft/include"     -O2 -Wall  -std=gnu99 -mfpmath=sse -msse2 -mstackrealign  -c probs.c -o probs.o
"C:/rtools40/mingw64/bin/"gcc  -I"C:/Users/BIOCBU~1/BBS-3~1.14-/R/include" -DNDEBUG     -I"C:/extsoft/include"     -O2 -Wall  -std=gnu99 -mfpmath=sse -msse2 -mstackrealign  -c zhu2.c -o zhu2.o
"C:/rtools40/mingw64/bin/"gcc  -I"C:/Users/BIOCBU~1/BBS-3~1.14-/R/include" -DNDEBUG     -I"C:/extsoft/include"     -O2 -Wall  -std=gnu99 -mfpmath=sse -msse2 -mstackrealign  -c zhu3.c -o zhu3.o
C:/rtools40/mingw64/bin/gcc -shared -s -static-libgcc -o tweeDEseq.dll tmp.def cov_wt_C.o init_tweeDEseq.o loglikGlm.o logprobs.o permtest.o probs.o zhu2.o zhu3.o -LC:/extsoft/lib/x64 -LC:/extsoft/lib -LC:/Users/BIOCBU~1/BBS-3~1.14-/R/bin/x64 -lR
installing to C:/Users/biocbuild/bbs-3.14-bioc/meat/tweeDEseq.buildbin-libdir/tweeDEseq/libs/x64
** testing if installed package can be loaded
* MD5 sums
packaged installation of 'tweeDEseq' as tweeDEseq_1.40.0.zip
* DONE (tweeDEseq)