Back to Multiple platform build/check report for BioC 3.16
ABCDEFGHIJKLMNOPQRS[T]UVWXYZ

This page was generated on 2022-12-06 11:07:09 -0500 (Tue, 06 Dec 2022).

HostnameOSArch (*)R versionInstalled pkgs
nebbiolo2Linux (Ubuntu 20.04.5 LTS)x86_644.2.2 (2022-10-31) -- "Innocent and Trusting" 4506
palomino4Windows Server 2022 Datacenterx644.2.2 (2022-10-31 ucrt) -- "Innocent and Trusting" 4283
lconwaymacOS 12.5.1 Montereyx86_644.2.2 (2022-10-31) -- "Innocent and Trusting" 4312
Click on any hostname to see more info about the system (e.g. compilers)      (*) as reported by 'uname -p', except on Windows and Mac OS X

INSTALL results for tweeDEseq on nebbiolo2


To the developers/maintainers of the tweeDEseq package:
- Please allow up to 24 hours (and sometimes 48 hours) for your latest push to git@git.bioconductor.org:packages/tweeDEseq.git to
reflect on this report. See How and When does the builder pull? When will my changes propagate? for more information.
- Make sure to use the following settings in order to reproduce any error or warning you see on this page.

raw results

Package 2111/2183HostnameOS / ArchINSTALLBUILDCHECKBUILD BIN
tweeDEseq 1.44.0  (landing page)
Juan R Gonzalez
Snapshot Date: 2022-12-05 14:00:06 -0500 (Mon, 05 Dec 2022)
git_url: https://git.bioconductor.org/packages/tweeDEseq
git_branch: RELEASE_3_16
git_last_commit: 8bd23d4
git_last_commit_date: 2022-11-01 11:06:29 -0500 (Tue, 01 Nov 2022)
nebbiolo2Linux (Ubuntu 20.04.5 LTS) / x86_64  OK    OK    OK  UNNEEDED, same version is already published
palomino4Windows Server 2022 Datacenter / x64  OK    OK    OK    OK  UNNEEDED, same version is already published
lconwaymacOS 12.5.1 Monterey / x86_64  OK    OK    OK    OK  UNNEEDED, same version is already published

Summary

Package: tweeDEseq
Version: 1.44.0
Command: /home/biocbuild/bbs-3.16-bioc/R/bin/R CMD INSTALL tweeDEseq
StartedAt: 2022-12-05 15:09:17 -0500 (Mon, 05 Dec 2022)
EndedAt: 2022-12-05 15:09:22 -0500 (Mon, 05 Dec 2022)
EllapsedTime: 4.2 seconds
RetCode: 0
Status:   OK  

Command output

##############################################################################
##############################################################################
###
### Running command:
###
###   /home/biocbuild/bbs-3.16-bioc/R/bin/R CMD INSTALL tweeDEseq
###
##############################################################################
##############################################################################


* installing to library ‘/home/biocbuild/bbs-3.16-bioc/R/library’
* installing *source* package ‘tweeDEseq’ ...
** using staged installation
** libs
gcc -I"/home/biocbuild/bbs-3.16-bioc/R/include" -DNDEBUG   -I/usr/local/include   -fpic  -g -O2  -Wall -c cov_wt_C.c -o cov_wt_C.o
cov_wt_C.c: In function ‘cov_wt_C’:
cov_wt_C.c:79:14: warning: ‘wvar’ may be used uninitialized in this function [-Wmaybe-uninitialized]
   79 |   free(aux), free(wvar), free(y);
      |              ^~~~~~~~~~
cov_wt_C.c: In function ‘momentEstimates_wt_C’:
cov_wt_C.c:154:12: warning: ‘moments’ may be used uninitialized in this function [-Wmaybe-uninitialized]
  154 |   free(y), free(moments), free(aux);
      |            ^~~~~~~~~~~~~
gcc -I"/home/biocbuild/bbs-3.16-bioc/R/include" -DNDEBUG   -I/usr/local/include   -fpic  -g -O2  -Wall -c init_tweeDEseq.c -o init_tweeDEseq.o
gcc -I"/home/biocbuild/bbs-3.16-bioc/R/include" -DNDEBUG   -I/usr/local/include   -fpic  -g -O2  -Wall -c loglikGlm.c -o loglikGlm.o
gcc -I"/home/biocbuild/bbs-3.16-bioc/R/include" -DNDEBUG   -I/usr/local/include   -fpic  -g -O2  -Wall -c logprobs.c -o logprobs.o
gcc -I"/home/biocbuild/bbs-3.16-bioc/R/include" -DNDEBUG   -I/usr/local/include   -fpic  -g -O2  -Wall -c permtest.c -o permtest.o
gcc -I"/home/biocbuild/bbs-3.16-bioc/R/include" -DNDEBUG   -I/usr/local/include   -fpic  -g -O2  -Wall -c probs.c -o probs.o
gcc -I"/home/biocbuild/bbs-3.16-bioc/R/include" -DNDEBUG   -I/usr/local/include   -fpic  -g -O2  -Wall -c zhu2.c -o zhu2.o
gcc -I"/home/biocbuild/bbs-3.16-bioc/R/include" -DNDEBUG   -I/usr/local/include   -fpic  -g -O2  -Wall -c zhu3.c -o zhu3.o
gcc -shared -L/home/biocbuild/bbs-3.16-bioc/R/lib -L/usr/local/lib -o tweeDEseq.so cov_wt_C.o init_tweeDEseq.o loglikGlm.o logprobs.o permtest.o probs.o zhu2.o zhu3.o -L/home/biocbuild/bbs-3.16-bioc/R/lib -lR
installing to /home/biocbuild/bbs-3.16-bioc/R/library/00LOCK-tweeDEseq/00new/tweeDEseq/libs
** R
** data
** inst
** byte-compile and prepare package for lazy loading
** help
*** installing help indices
** building package indices
** installing vignettes
** testing if installed package can be loaded from temporary location
** checking absolute paths in shared objects and dynamic libraries
** testing if installed package can be loaded from final location
** testing if installed package keeps a record of temporary installation path
* DONE (tweeDEseq)