Index of /checkResults/release/bioc-LATEST/ttgsea/raw-results
Name
Last modified
Size
Description
Parent Directory
-
merida1/
28-May-2022 01:09
-
nebbiolo1/
28-May-2022 01:06
-
palomino3/
28-May-2022 01:07
-
riesling1/
19-Mar-2022 00:08
-
info.dcf
28-May-2022 01:09
266