Back to Multiple platform build/check report for BioC 3.14
ABCDEFGHIJKLMNOPQRS[T]UVWXYZ

This page was generated on 2022-01-26 13:08:57 -0500 (Wed, 26 Jan 2022).

HostnameOSArch (*)R versionInstalled pkgs
nebbiolo2Linux (Ubuntu 20.04.4 LTS)x86_644.1.2 (2021-11-01) -- "Bird Hippie" 4329
tokay2Windows Server 2012 R2 Standardx644.1.2 (2021-11-01) -- "Bird Hippie" 4080
machv2macOS 10.14.6 Mojavex86_644.1.2 (2021-11-01) -- "Bird Hippie" 4141
Click on any hostname to see more info about the system (e.g. compilers)      (*) as reported by 'uname -p', except on Windows and Mac OS X

BUILD BIN results for ttgsea on machv2


To the developers/maintainers of the ttgsea package:
- Please allow up to 24 hours (and sometimes 48 hours) for your latest push to git@git.bioconductor.org:packages/ttgsea.git to
reflect on this report. See How and When does the builder pull? When will my changes propagate? here for more information.
- Make sure to use the following settings in order to reproduce any error or warning you see on this page.

raw results

Package 2014/2083HostnameOS / ArchINSTALLBUILDCHECKBUILD BIN
ttgsea 1.2.1  (landing page)
Dongmin Jung
Snapshot Date: 2022-01-25 01:55:07 -0500 (Tue, 25 Jan 2022)
git_url: https://git.bioconductor.org/packages/ttgsea
git_branch: RELEASE_3_14
git_last_commit: bdfd91e
git_last_commit_date: 2021-12-14 18:58:49 -0500 (Tue, 14 Dec 2021)
nebbiolo2Linux (Ubuntu 20.04.4 LTS) / x86_64  OK    OK    OK  UNNEEDED, same version is already published
tokay2Windows Server 2012 R2 Standard / x64  OK    OK    OK    OK  UNNEEDED, same version is already published
machv2macOS 10.14.6 Mojave / x86_64  OK    OK    OK    OK  UNNEEDED, same version is already published

Summary

Package: ttgsea
Version: 1.2.1
Command: rm -rf ttgsea.buildbin-libdir && mkdir ttgsea.buildbin-libdir && /Users/biocbuild/BBS/utils/build-universal.sh ttgsea_1.2.1.tar.gz /Library/Frameworks/R.framework/Resources/bin/R ttgsea.buildbin-libdir
StartedAt: 2022-01-25 21:11:17 -0500 (Tue, 25 Jan 2022)
EndedAt: 2022-01-25 21:11:35 -0500 (Tue, 25 Jan 2022)
EllapsedTime: 18.6 seconds
RetCode: 0
Status:   OK  
PackageFile: ttgsea_1.2.1.tgz
PackageFileSize: 819.5 KiB

Command output

##############################################################################
##############################################################################
###
### Running command:
###
###   rm -rf ttgsea.buildbin-libdir && mkdir ttgsea.buildbin-libdir && /Users/biocbuild/BBS/utils/build-universal.sh ttgsea_1.2.1.tar.gz /Library/Frameworks/R.framework/Resources/bin/R ttgsea.buildbin-libdir
###
##############################################################################
##############################################################################


>>>>>>> 
>>>>>>> INSTALLATION WITH 'R CMD INSTALL --preclean --no-multiarch --library=ttgsea.buildbin-libdir ttgsea_1.2.1.tar.gz'
>>>>>>> 

* installing *source* package ‘ttgsea’ ...
** using staged installation
** R
** inst
** byte-compile and prepare package for lazy loading
** help
*** installing help indices
** building package indices
** installing vignettes
** testing if installed package can be loaded from temporary location
** testing if installed package can be loaded from final location
** testing if installed package keeps a record of temporary installation path
* DONE (ttgsea)