![]() | Name | Last modified | Size | Description |
---|---|---|---|---|
![]() | Parent Directory | - | ||
![]() | buildsrc-out.txt | 26-Sep-2023 00:36 | 872 | |
![]() | buildsrc-summary.dcf | 26-Sep-2023 00:36 | 418 | |
![]() | checksrc-out.txt | 26-Sep-2023 00:36 | 4.0K | |
![]() | checksrc-summary.dcf | 26-Sep-2023 00:36 | 416 | |
![]() | install-out.txt | 26-Sep-2023 00:36 | 1.0K | |
![]() | install-summary.dcf | 26-Sep-2023 00:36 | 260 | |