Name | Last modified | Size | Description | |
---|---|---|---|---|
Parent Directory | - | |||
buildsrc-out.txt | 30-Mar-2024 00:36 | 898 | ||
buildsrc-summary.dcf | 30-Mar-2024 00:36 | 455 | ||
checksrc-out.txt | 30-Mar-2024 00:36 | 3.7K | ||
checksrc-summary.dcf | 30-Mar-2024 00:36 | 465 | ||
install-out.txt | 30-Mar-2024 00:36 | 1.0K | ||
install-summary.dcf | 30-Mar-2024 00:36 | 284 | ||