Name | Last modified | Size | Description | |
---|---|---|---|---|
Parent Directory | - | |||
install-summary.dcf | 03-May-2024 00:41 | 294 | ||
buildsrc-summary.dcf | 03-May-2024 00:41 | 466 | ||
checksrc-summary.dcf | 03-May-2024 00:41 | 495 | ||
buildbin-summary.dcf | 03-May-2024 00:41 | 607 | ||
buildsrc-out.txt | 03-May-2024 00:41 | 908 | ||
install-out.txt | 03-May-2024 00:41 | 1.0K | ||
buildbin-out.txt | 03-May-2024 00:41 | 1.3K | ||
checksrc-out.txt | 03-May-2024 00:41 | 3.6K | ||