Name | Last modified | Size | Description | |
---|---|---|---|---|
Parent Directory | - | |||
buildbin-out.txt | 30-Mar-2024 00:37 | 2.1K | ||
buildbin-summary.dcf | 30-Mar-2024 00:37 | 560 | ||
buildsrc-out.txt | 30-Mar-2024 00:37 | 910 | ||
buildsrc-summary.dcf | 30-Mar-2024 00:37 | 482 | ||
checksrc-out.txt | 30-Mar-2024 00:37 | 4.2K | ||
checksrc-summary.dcf | 30-Mar-2024 00:37 | 477 | ||
install-out.txt | 30-Mar-2024 00:37 | 2.0K | ||
install-summary.dcf | 30-Mar-2024 00:37 | 283 | ||