Name | Last modified | Size | Description | |
---|---|---|---|---|
Parent Directory | - | |||
install-summary.dcf | 01-Jun-2024 06:03 | 275 | ||
install-out.txt | 01-Jun-2024 06:03 | 1.9K | ||
checksrc-summary.dcf | 01-Jun-2024 06:03 | 446 | ||
checksrc-out.txt | 01-Jun-2024 06:03 | 3.7K | ||
buildsrc-summary.dcf | 01-Jun-2024 06:03 | 441 | ||
buildsrc-out.txt | 01-Jun-2024 06:03 | 868 | ||