Name | Last modified | Size | Description | |
---|---|---|---|---|
Parent Directory | - | |||
buildbin-out.txt | 05-Mar-2024 01:37 | 4.5K | ||
buildbin-summary.dcf | 05-Mar-2024 01:37 | 575 | ||
buildsrc-out.txt | 05-Mar-2024 01:37 | 877 | ||
buildsrc-summary.dcf | 05-Mar-2024 01:37 | 447 | ||
checksrc-out.txt | 05-Mar-2024 01:37 | 3.8K | ||
checksrc-summary.dcf | 05-Mar-2024 01:37 | 474 | ||
install-out.txt | 05-Mar-2024 01:37 | 2.2K | ||
install-summary.dcf | 05-Mar-2024 01:37 | 284 | ||