Back to Multiple platform build/check report for BioC 3.14
ABCDEFGHIJKLMNOPQRS[T]UVWXYZ

This page was generated on 2022-01-19 13:06:06 -0500 (Wed, 19 Jan 2022).

HostnameOSArch (*)R versionInstalled pkgs
nebbiolo2Linux (Ubuntu 20.04.4 LTS)x86_644.1.2 (2021-11-01) -- "Bird Hippie" 4328
tokay2Windows Server 2012 R2 Standardx644.1.2 (2021-11-01) -- "Bird Hippie" 4077
machv2macOS 10.14.6 Mojavex86_644.1.2 (2021-11-01) -- "Bird Hippie" 4138
Click on any hostname to see more info about the system (e.g. compilers)      (*) as reported by 'uname -p', except on Windows and Mac OS X

BUILD results for transcriptogramer on nebbiolo2


To the developers/maintainers of the transcriptogramer package:
- Please allow up to 24 hours (and sometimes 48 hours) for your latest push to git@git.bioconductor.org:packages/transcriptogramer.git to
reflect on this report. See How and When does the builder pull? When will my changes propagate? here for more information.
- Make sure to use the following settings in order to reproduce any error or warning you see on this page.

raw results

Package 1983/2083HostnameOS / ArchINSTALLBUILDCHECKBUILD BIN
transcriptogramer 1.16.0  (landing page)
Diego Morais
Snapshot Date: 2022-01-18 01:55:07 -0500 (Tue, 18 Jan 2022)
git_url: https://git.bioconductor.org/packages/transcriptogramer
git_branch: RELEASE_3_14
git_last_commit: 2bd1dc6
git_last_commit_date: 2021-10-26 12:39:59 -0500 (Tue, 26 Oct 2021)
nebbiolo2Linux (Ubuntu 20.04.4 LTS) / x86_64  OK    OK    OK  UNNEEDED, same version is already published
tokay2Windows Server 2012 R2 Standard / x64  OK    OK    OK    OK  UNNEEDED, same version is already published
machv2macOS 10.14.6 Mojave / x86_64  OK    OK    OK    OK  UNNEEDED, same version is already published

Summary

Package: transcriptogramer
Version: 1.16.0
Command: /home/biocbuild/bbs-3.14-bioc/R/bin/R CMD build --keep-empty-dirs --no-resave-data transcriptogramer
StartedAt: 2022-01-18 06:00:59 -0500 (Tue, 18 Jan 2022)
EndedAt: 2022-01-18 06:13:22 -0500 (Tue, 18 Jan 2022)
EllapsedTime: 743.3 seconds
RetCode: 0
Status:   OK  
PackageFile: transcriptogramer_1.16.0.tar.gz
PackageFileSize: 3.63 MiB

Command output

##############################################################################
##############################################################################
###
### Running command:
###
###   /home/biocbuild/bbs-3.14-bioc/R/bin/R CMD build --keep-empty-dirs --no-resave-data transcriptogramer
###
##############################################################################
##############################################################################


* checking for file ‘transcriptogramer/DESCRIPTION’ ... OK
* preparing ‘transcriptogramer’:
* checking DESCRIPTION meta-information ... OK
* installing the package to build vignettes
* creating vignettes ... OK
* checking for LF line-endings in source and make files and shell scripts
* checking for empty or unneeded directories
* building ‘transcriptogramer_1.16.0.tar.gz’