Index of /checkResults/release/bioc-LATEST/transcriptR/raw-results/riesling1

[ICO]NameLast modifiedSizeDescription

[DIR]Parent Directory  -  
[TXT]buildbin-out.txt19-Mar-2022 00:08 2.8K 
[   ]buildbin-summary.dcf19-Mar-2022 00:08 539  
[TXT]buildsrc-out.txt19-Mar-2022 00:08 1.2K 
[   ]buildsrc-summary.dcf19-Mar-2022 00:08 468  
[TXT]checksrc-out.txt19-Mar-2022 00:08 3.3K 
[   ]checksrc-summary.dcf19-Mar-2022 00:08 463  
[TXT]install-out.txt19-Mar-2022 00:08 3.0K 
[   ]install-summary.dcf19-Mar-2022 00:08 276