Index of /checkResults/release/bioc-LATEST/transcriptR/raw-results/palomino3

[ICO]NameLast modifiedSizeDescription

[DIR]Parent Directory  -  
[TXT]install-out.txt13-Aug-2022 02:22 1.0K 
[   ]install-summary.dcf13-Aug-2022 02:22 276  
[TXT]buildsrc-out.txt13-Aug-2022 02:22 1.2K 
[   ]buildsrc-summary.dcf13-Aug-2022 02:22 469  
[TXT]checksrc-out.txt13-Aug-2022 02:22 3.3K 
[   ]checksrc-summary.dcf13-Aug-2022 02:22 463  
[TXT]buildbin-out.txt13-Aug-2022 02:22 1.1K 
[   ]buildbin-summary.dcf13-Aug-2022 02:22 539