Back to Multiple platform build/check report for BioC 3.14
ABCDEFGHIJKLMNOPQRS[T]UVWXYZ

This page was generated on 2022-01-26 13:08:56 -0500 (Wed, 26 Jan 2022).

HostnameOSArch (*)R versionInstalled pkgs
nebbiolo2Linux (Ubuntu 20.04.4 LTS)x86_644.1.2 (2021-11-01) -- "Bird Hippie" 4329
tokay2Windows Server 2012 R2 Standardx644.1.2 (2021-11-01) -- "Bird Hippie" 4080
machv2macOS 10.14.6 Mojavex86_644.1.2 (2021-11-01) -- "Bird Hippie" 4141
Click on any hostname to see more info about the system (e.g. compilers)      (*) as reported by 'uname -p', except on Windows and Mac OS X

CHECK results for transcriptR on machv2


To the developers/maintainers of the transcriptR package:
- Please allow up to 24 hours (and sometimes 48 hours) for your latest push to git@git.bioconductor.org:packages/transcriptR.git to
reflect on this report. See How and When does the builder pull? When will my changes propagate? here for more information.
- Make sure to use the following settings in order to reproduce any error or warning you see on this page.

raw results

Package 1984/2083HostnameOS / ArchINSTALLBUILDCHECKBUILD BIN
transcriptR 1.22.0  (landing page)
Armen R. Karapetyan
Snapshot Date: 2022-01-25 01:55:07 -0500 (Tue, 25 Jan 2022)
git_url: https://git.bioconductor.org/packages/transcriptR
git_branch: RELEASE_3_14
git_last_commit: 6605278
git_last_commit_date: 2021-10-26 12:24:18 -0500 (Tue, 26 Oct 2021)
nebbiolo2Linux (Ubuntu 20.04.4 LTS) / x86_64  OK    OK    OK  UNNEEDED, same version is already published
tokay2Windows Server 2012 R2 Standard / x64  OK    OK    OK    OK  UNNEEDED, same version is already published
machv2macOS 10.14.6 Mojave / x86_64  OK    OK    OK    OK  UNNEEDED, same version is already published

Summary

Package: transcriptR
Version: 1.22.0
Command: /Library/Frameworks/R.framework/Resources/bin/R CMD check --install=check:transcriptR.install-out.txt --library=/Library/Frameworks/R.framework/Resources/library --no-vignettes --timings transcriptR_1.22.0.tar.gz
StartedAt: 2022-01-25 19:10:04 -0500 (Tue, 25 Jan 2022)
EndedAt: 2022-01-25 19:19:53 -0500 (Tue, 25 Jan 2022)
EllapsedTime: 588.8 seconds
RetCode: 0
Status:   OK  
CheckDir: transcriptR.Rcheck
Warnings: 0

Command output

##############################################################################
##############################################################################
###
### Running command:
###
###   /Library/Frameworks/R.framework/Resources/bin/R CMD check --install=check:transcriptR.install-out.txt --library=/Library/Frameworks/R.framework/Resources/library --no-vignettes --timings transcriptR_1.22.0.tar.gz
###
##############################################################################
##############################################################################


* using log directory ‘/Users/biocbuild/bbs-3.14-bioc/meat/transcriptR.Rcheck’
* using R version 4.1.2 (2021-11-01)
* using platform: x86_64-apple-darwin17.0 (64-bit)
* using session charset: UTF-8
* using option ‘--no-vignettes’
* checking for file ‘transcriptR/DESCRIPTION’ ... OK
* checking extension type ... Package
* this is package ‘transcriptR’ version ‘1.22.0’
* checking package namespace information ... OK
* checking package dependencies ... OK
* checking if this is a source package ... OK
* checking if there is a namespace ... OK
* checking for hidden files and directories ... OK
* checking for portable file names ... OK
* checking for sufficient/correct file permissions ... OK
* checking whether package ‘transcriptR’ can be installed ... OK
* checking installed package size ... OK
* checking package directory ... OK
* checking ‘build’ directory ... OK
* checking DESCRIPTION meta-information ... OK
* checking top-level files ... OK
* checking for left-over files ... OK
* checking index information ... OK
* checking package subdirectories ... OK
* checking R files for non-ASCII characters ... OK
* checking R files for syntax errors ... OK
* checking whether the package can be loaded ... OK
* checking whether the package can be loaded with stated dependencies ... OK
* checking whether the package can be unloaded cleanly ... OK
* checking whether the namespace can be loaded with stated dependencies ... OK
* checking whether the namespace can be unloaded cleanly ... OK
* checking dependencies in R code ... OK
* checking S3 generic/method consistency ... OK
* checking replacement functions ... OK
* checking foreign function calls ... OK
* checking R code for possible problems ... OK
* checking Rd files ... OK
* checking Rd metadata ... OK
* checking Rd cross-references ... OK
* checking for missing documentation entries ... OK
* checking for code/documentation mismatches ... OK
* checking Rd \usage sections ... OK
* checking Rd contents ... OK
* checking for unstated dependencies in examples ... OK
* checking contents of ‘data’ directory ... OK
* checking data for non-ASCII characters ... OK
* checking data for ASCII and uncompressed saves ... OK
* checking files in ‘vignettes’ ... OK
* checking examples ... OK
Examples with CPU (user + system) or elapsed time > 5s
                                  user system elapsed
breakTranscriptsByPeaks-methods 13.197  0.453  13.679
peaksToBed-methods               7.125  0.169   7.306
predictStrand-methods            6.900  0.144   7.050
* checking for unstated dependencies in ‘tests’ ... OK
* checking tests ...
  Running ‘testthat.R’
 OK
* checking for unstated dependencies in vignettes ... OK
* checking package vignettes in ‘inst/doc’ ... OK
* checking running R code from vignettes ... SKIPPED
* checking re-building of vignette outputs ... SKIPPED
* checking PDF version of manual ... OK
* DONE

Status: OK


Installation output

transcriptR.Rcheck/00install.out

##############################################################################
##############################################################################
###
### Running command:
###
###   /Library/Frameworks/R.framework/Resources/bin/R CMD INSTALL transcriptR
###
##############################################################################
##############################################################################


* installing to library ‘/Library/Frameworks/R.framework/Versions/4.1/Resources/library’
* installing *source* package ‘transcriptR’ ...
** using staged installation
** R
** data
** inst
** byte-compile and prepare package for lazy loading
** help
*** installing help indices
** building package indices
** installing vignettes
** testing if installed package can be loaded from temporary location
** testing if installed package can be loaded from final location
** testing if installed package keeps a record of temporary installation path
* DONE (transcriptR)

Tests output

transcriptR.Rcheck/tests/testthat.Rout


R version 4.1.2 (2021-11-01) -- "Bird Hippie"
Copyright (C) 2021 The R Foundation for Statistical Computing
Platform: x86_64-apple-darwin17.0 (64-bit)

R is free software and comes with ABSOLUTELY NO WARRANTY.
You are welcome to redistribute it under certain conditions.
Type 'license()' or 'licence()' for distribution details.

R is a collaborative project with many contributors.
Type 'contributors()' for more information and
'citation()' on how to cite R or R packages in publications.

Type 'demo()' for some demos, 'help()' for on-line help, or
'help.start()' for an HTML browser interface to help.
Type 'q()' to quit R.

> library(testthat)
> library(transcriptR)
> 
> test_check("transcriptR")
[ FAIL 0 | WARN 0 | SKIP 0 | PASS 87 ]
> 
> proc.time()
   user  system elapsed 
 90.658   2.413  93.107 

Example timings

transcriptR.Rcheck/transcriptR-Ex.timings

nameusersystemelapsed
addFeature-methods0.2750.0060.282
annotateTranscripts-methods3.7940.0913.886
breakTranscriptsByPeaks-methods13.197 0.45313.679
constructCDS0.0050.0020.007
constructTDS0.3190.0090.328
detectTranscripts-methods2.0190.0732.094
estimateBackground-methods0.5340.0250.559
estimateGapDistance-methods1.4360.0211.457
exportCoverage-methods0.3580.0340.393
getConfusionMatrix-methods0.0040.0010.005
getGenomicAnnot-methods0.0060.0010.007
getPeaks-methods0.0930.0030.095
getPredictorSignificance-methods0.0030.0010.006
getProbTreshold-methods0.0040.0010.006
getQuadProb-methods0.2640.0060.270
getTestedGapDistances-methods0.3350.0070.343
getTranscripts-methods0.3310.0040.336
peaksToBed-methods7.1250.1697.306
plotErrorRate-methods1.5370.0531.592
plotFeatures-methods2.6630.0562.722
plotGenomicAnnot-methods0.5490.0050.554
plotROC-methods2.0730.0332.106
predictStrand-methods6.9000.1447.050
predictTssOverlap-methods2.1510.0662.218
show0.2890.0050.293
transcriptsToBed-methods2.0060.0422.050