Index of /checkResults/release/bioc-LATEST/trackViewer/raw-results/lconway

[ICO]NameLast modifiedSizeDescription

[DIR]Parent Directory  -  
[TXT]buildbin-out.txt22-May-2024 00:38 1.2K 
[   ]buildbin-summary.dcf22-May-2024 00:38 554  
[TXT]buildsrc-out.txt23-May-2024 00:37 1.0K 
[   ]buildsrc-summary.dcf23-May-2024 00:37 350  
[TXT]checksrc-out.txt22-May-2024 00:38 3.5K 
[   ]checksrc-summary.dcf22-May-2024 00:38 460  
[TXT]install-out.txt23-May-2024 00:37 813  
[   ]install-summary.dcf23-May-2024 00:37 279