Back to Multiple platform build/check report for BioC 3.14
ABCDEFGHIJKLMNOPQRS[T]UVWXYZ

This page was generated on 2021-12-03 13:05:36 -0500 (Fri, 03 Dec 2021).

BUILD results for topdownr on tokay2

To the developers/maintainers of the topdownr package:
- Please allow up to 24 hours (and sometimes 48 hours) for your latest push to git@git.bioconductor.org:packages/topdownr.git to
reflect on this report. See How and When does the builder pull? When will my changes propagate? here for more information.
- Make sure to use the following settings in order to reproduce any error or warning you see on this page.

raw results

Package 1973/2083HostnameOS / ArchINSTALLBUILDCHECKBUILD BIN
topdownr 1.16.0  (landing page)
Sebastian Gibb
Snapshot Date: 2021-12-02 01:55:06 -0500 (Thu, 02 Dec 2021)
git_url: https://git.bioconductor.org/packages/topdownr
git_branch: RELEASE_3_14
git_last_commit: 449221d
git_last_commit_date: 2021-10-26 12:39:20 -0500 (Tue, 26 Oct 2021)
nebbiolo2Linux (Ubuntu 20.04.3 LTS) / x86_64  OK    OK    OK  UNNEEDED, same version is already published
tokay2Windows Server 2012 R2 Standard / x64  OK    OK    OK    OK  UNNEEDED, same version is already published
machv2macOS 10.14.6 Mojave / x86_64  OK    OK    OK    OK  UNNEEDED, same version is already published

Summary

Package: topdownr
Version: 1.16.0
Command: chmod a+r topdownr -R && C:\Users\biocbuild\bbs-3.14-bioc\R\bin\R.exe CMD build --keep-empty-dirs --no-resave-data topdownr
StartedAt: 2021-12-02 15:46:29 -0500 (Thu, 02 Dec 2021)
EndedAt: 2021-12-02 15:48:18 -0500 (Thu, 02 Dec 2021)
EllapsedTime: 109.5 seconds
RetCode: 0
Status:   OK  
PackageFile: topdownr_1.16.0.tar.gz
PackageFileSize: 1.243 MiB

Command output

##############################################################################
##############################################################################
###
### Running command:
###
###   chmod a+r topdownr -R && C:\Users\biocbuild\bbs-3.14-bioc\R\bin\R.exe CMD build --keep-empty-dirs --no-resave-data topdownr
###
##############################################################################
##############################################################################


* checking for file 'topdownr/DESCRIPTION' ... OK
* preparing 'topdownr':
* checking DESCRIPTION meta-information ... OK
* installing the package to build vignettes
* creating vignettes ... OK
* checking for LF line-endings in source and make files and shell scripts
* checking for empty or unneeded directories
* building 'topdownr_1.16.0.tar.gz'