Back to Multiple platform build/check report for BioC 3.14
ABCDEFGHIJKLMNOPQRS[T]UVWXYZ

This page was generated on 2021-12-03 13:05:36 -0500 (Fri, 03 Dec 2021).

BUILD BIN results for topdownr on tokay2

To the developers/maintainers of the topdownr package:
- Please allow up to 24 hours (and sometimes 48 hours) for your latest push to git@git.bioconductor.org:packages/topdownr.git to
reflect on this report. See How and When does the builder pull? When will my changes propagate? here for more information.
- Make sure to use the following settings in order to reproduce any error or warning you see on this page.

raw results

Package 1973/2083HostnameOS / ArchINSTALLBUILDCHECKBUILD BIN
topdownr 1.16.0  (landing page)
Sebastian Gibb
Snapshot Date: 2021-12-02 01:55:06 -0500 (Thu, 02 Dec 2021)
git_url: https://git.bioconductor.org/packages/topdownr
git_branch: RELEASE_3_14
git_last_commit: 449221d
git_last_commit_date: 2021-10-26 12:39:20 -0500 (Tue, 26 Oct 2021)
nebbiolo2Linux (Ubuntu 20.04.3 LTS) / x86_64  OK    OK    OK  UNNEEDED, same version is already published
tokay2Windows Server 2012 R2 Standard / x64  OK    OK    OK    OK  UNNEEDED, same version is already published
machv2macOS 10.14.6 Mojave / x86_64  OK    OK    OK    OK  UNNEEDED, same version is already published

Summary

Package: topdownr
Version: 1.16.0
Command: rm -rf topdownr.buildbin-libdir && mkdir topdownr.buildbin-libdir && C:\Users\biocbuild\bbs-3.14-bioc\R\bin\R.exe CMD INSTALL --merge-multiarch --build --library=topdownr.buildbin-libdir topdownr_1.16.0.tar.gz
StartedAt: 2021-12-03 10:41:10 -0500 (Fri, 03 Dec 2021)
EndedAt: 2021-12-03 10:42:41 -0500 (Fri, 03 Dec 2021)
EllapsedTime: 90.9 seconds
RetCode: 0
Status:   OK  
PackageFile: topdownr_1.16.0.zip
PackageFileSize: 2.068 MiB

Command output

##############################################################################
##############################################################################
###
### Running command:
###
###   rm -rf topdownr.buildbin-libdir && mkdir topdownr.buildbin-libdir && C:\Users\biocbuild\bbs-3.14-bioc\R\bin\R.exe CMD INSTALL --merge-multiarch --build --library=topdownr.buildbin-libdir topdownr_1.16.0.tar.gz
###
##############################################################################
##############################################################################



install for i386

* installing *source* package 'topdownr' ...
** using staged installation
** R
** data
*** moving datasets to lazyload DB
** inst
** byte-compile and prepare package for lazy loading
** help
*** installing help indices
  converting help for package 'topdownr'
    finding HTML links ... done
    AbstractTopDownSet-class                html  
    FragmentViews-class                     html  
    NCBSet-class                            html  
    TopDownSet-class                        html  
    createExperimentsFragmentOptimisation   html  
    expandMsConditions                      html  
    readTopDownFiles                        html  
    tds                                     html  
    topdownr-deprecated                     html  
    topdownr-package                        html  
    validMsSettings                         html  
    windows-specific-functions              html  
    writeMethodXmls                         html  
** building package indices
** installing vignettes
** testing if installed package can be loaded from temporary location
** testing if installed package can be loaded from final location
** testing if installed package keeps a record of temporary installation path

install for x64

* installing *source* package 'topdownr' ...
** testing if installed package can be loaded
* MD5 sums
packaged installation of 'topdownr' as topdownr_1.16.0.zip
* DONE (topdownr)