Index of /checkResults/release/bioc-LATEST/topdownr/raw-results
Name
Last modified
Size
Description
Parent Directory
-
info.dcf
07-Dec-2023 01:38
276
kunpeng2/
03-Nov-2023 00:41
-
lconway/
07-Dec-2023 01:38
-
nebbiolo2/
07-Dec-2023 01:36
-
palomino4/
07-Dec-2023 01:37
-