Index of /checkResults/release/bioc-LATEST/tofsims/raw-results/riesling1

[ICO]NameLast modifiedSizeDescription

[DIR]Parent Directory  -  
[TXT]buildsrc-out.txt19-Mar-2022 00:08 941  
[   ]buildsrc-summary.dcf19-Mar-2022 00:08 368  
[TXT]install-out.txt19-Mar-2022 00:08 617  
[   ]install-summary.dcf19-Mar-2022 00:08 270