Index of /checkResults/release/bioc-LATEST/tofsims/raw-results/palomino3

[ICO]NameLast modifiedSizeDescription

[DIR]Parent Directory  -  
[TXT]buildsrc-out.txt02-Jul-2022 01:07 951  
[   ]buildsrc-summary.dcf02-Jul-2022 01:07 367  
[TXT]install-out.txt02-Jul-2022 01:07 627  
[   ]install-summary.dcf02-Jul-2022 01:07 270