Index of /checkResults/release/bioc-LATEST/tofsims/raw-results/nebbiolo1

[ICO]NameLast modifiedSizeDescription

[DIR]Parent Directory  -  
[TXT]buildsrc-out.txt02-Jul-2022 01:06 902  
[   ]buildsrc-summary.dcf02-Jul-2022 01:06 332  
[TXT]install-out.txt02-Jul-2022 01:06 638  
[   ]install-summary.dcf02-Jul-2022 01:06 261