Index of /checkResults/release/bioc-LATEST/tofsims/raw-results/merida1

[ICO]NameLast modifiedSizeDescription

[DIR]Parent Directory  -  
[TXT]buildsrc-out.txt02-Jul-2022 01:08 918  
[   ]buildsrc-summary.dcf02-Jul-2022 01:08 342  
[TXT]install-out.txt02-Jul-2022 01:08 694  
[   ]install-summary.dcf02-Jul-2022 01:08 271