Index of /checkResults/release/bioc-LATEST/tofsims/raw-results
Name
Last modified
Size
Description
Parent Directory
-
riesling1/
19-Mar-2022 00:08
-
nebbiolo1/
02-Jul-2022 01:06
-
palomino3/
02-Jul-2022 01:07
-
info.dcf
02-Jul-2022 01:08
268
merida1/
02-Jul-2022 01:08
-