Index of /checkResults/release/bioc-LATEST/tofsims/raw-results
Name
Last modified
Size
Description
Parent Directory
-
info.dcf
24-May-2022 01:08
268
merida1/
24-May-2022 01:08
-
nebbiolo1/
24-May-2022 01:05
-
palomino3/
24-May-2022 01:07
-
riesling1/
19-Mar-2022 00:08
-