Back to Multiple platform build/check report for BioC 3.18:   simplified   long
ABCDEFGHIJKLMNOPQRS[T]UVWXYZ

This page was generated on 2024-03-29 11:36:27 -0400 (Fri, 29 Mar 2024).

HostnameOSArch (*)R versionInstalled pkgs
nebbiolo2Linux (Ubuntu 22.04.3 LTS)x86_644.3.3 (2024-02-29) -- "Angel Food Cake" 4669
palomino4Windows Server 2022 Datacenterx644.3.3 (2024-02-29 ucrt) -- "Angel Food Cake" 4404
merida1macOS 12.7.1 Montereyx86_644.3.3 (2024-02-29) -- "Angel Food Cake" 4427
Click on any hostname to see more info about the system (e.g. compilers)      (*) as reported by 'uname -p', except on Windows and Mac OS X

Package 2141/2266HostnameOS / ArchINSTALLBUILDCHECKBUILD BIN
tkWidgets 1.80.0  (landing page)
J. Zhang
Snapshot Date: 2024-03-27 14:05:05 -0400 (Wed, 27 Mar 2024)
git_url: https://git.bioconductor.org/packages/tkWidgets
git_branch: RELEASE_3_18
git_last_commit: 7b63083
git_last_commit_date: 2023-10-24 09:31:42 -0400 (Tue, 24 Oct 2023)
nebbiolo2Linux (Ubuntu 22.04.3 LTS) / x86_64  OK    OK    OK  UNNEEDED, same version is already published
palomino4Windows Server 2022 Datacenter / x64  OK    OK    OK    OK  UNNEEDED, same version is already published
merida1macOS 12.7.1 Monterey / x86_64  OK    OK    OK    OK  UNNEEDED, same version is already published
kjohnson1macOS 13.6.1 Ventura / arm64see weekly results here

CHECK results for tkWidgets on nebbiolo2


To the developers/maintainers of the tkWidgets package:
- Allow up to 24 hours (and sometimes 48 hours) for your latest push to git@git.bioconductor.org:packages/tkWidgets.git to reflect on this report. See Troubleshooting Build Report for more information.
- Use the following Renviron settings to reproduce errors and warnings.
- If 'R CMD check' started to fail recently on the Linux builder(s) over a missing dependency, add the missing dependency to 'Suggests:' in your DESCRIPTION file. See Renviron.bioc for more information.

raw results


Summary

Package: tkWidgets
Version: 1.80.0
Command: /home/biocbuild/bbs-3.18-bioc/R/bin/R CMD check --install=check:tkWidgets.install-out.txt --library=/home/biocbuild/bbs-3.18-bioc/R/site-library --timings tkWidgets_1.80.0.tar.gz
StartedAt: 2024-03-28 03:27:21 -0400 (Thu, 28 Mar 2024)
EndedAt: 2024-03-28 03:27:52 -0400 (Thu, 28 Mar 2024)
EllapsedTime: 31.3 seconds
RetCode: 0
Status:   OK  
CheckDir: tkWidgets.Rcheck
Warnings: 0

Command output

##############################################################################
##############################################################################
###
### Running command:
###
###   /home/biocbuild/bbs-3.18-bioc/R/bin/R CMD check --install=check:tkWidgets.install-out.txt --library=/home/biocbuild/bbs-3.18-bioc/R/site-library --timings tkWidgets_1.80.0.tar.gz
###
##############################################################################
##############################################################################


* using log directory ‘/home/biocbuild/bbs-3.18-bioc/meat/tkWidgets.Rcheck’
* using R version 4.3.3 (2024-02-29)
* using platform: x86_64-pc-linux-gnu (64-bit)
* R was compiled by
    gcc (Ubuntu 11.4.0-1ubuntu1~22.04) 11.4.0
    GNU Fortran (Ubuntu 11.4.0-1ubuntu1~22.04) 11.4.0
* running under: Ubuntu 22.04.4 LTS
* using session charset: UTF-8
* checking for file ‘tkWidgets/DESCRIPTION’ ... OK
* this is package ‘tkWidgets’ version ‘1.80.0’
* checking package namespace information ... OK
* checking package dependencies ... OK
* checking if this is a source package ... OK
* checking if there is a namespace ... OK
* checking for hidden files and directories ... OK
* checking for portable file names ... OK
* checking for sufficient/correct file permissions ... OK
* checking whether package ‘tkWidgets’ can be installed ... OK
* checking installed package size ... OK
* checking package directory ... OK
* checking ‘build’ directory ... OK
* checking DESCRIPTION meta-information ... OK
* checking top-level files ... OK
* checking for left-over files ... OK
* checking index information ... OK
* checking package subdirectories ... OK
* checking R files for non-ASCII characters ... OK
* checking R files for syntax errors ... OK
* checking whether the package can be loaded ... OK
* checking whether the package can be loaded with stated dependencies ... OK
* checking whether the package can be unloaded cleanly ... OK
* checking whether the namespace can be loaded with stated dependencies ... OK
* checking whether the namespace can be unloaded cleanly ... OK
* checking loading without being on the library search path ... OK
* checking startup messages can be suppressed ... OK
* checking dependencies in R code ... NOTE
'library' or 'require' calls to packages already attached by Depends:
  ‘DynDoc’ ‘methods’ ‘tools’ ‘widgetTools’
  Please remove these calls from your code.
'library' or 'require' call to ‘Biobase’ in package code.
  Please use :: or requireNamespace() instead.
  See section 'Suggested packages' in the 'Writing R Extensions' manual.
Packages in Depends field not imported from:
  ‘DynDoc’ ‘methods’ ‘tools’ ‘widgetTools’
  These packages need to be imported from (in the NAMESPACE file)
  for when this namespace is loaded but not attached.
* checking S3 generic/method consistency ... OK
* checking replacement functions ... OK
* checking foreign function calls ... OK
* checking R code for possible problems ... NOTE
File ‘tkWidgets/R/zzz.R’:
  .onLoad calls:
    require("methods", quietly = TRUE)
    require("widgetTools", quietly = TRUE)
    require("DynDoc", quietly = TRUE)
    require(Biobase)

Package startup functions should not change the search path.
See section ‘Good practice’ in '?.onAttach'.

.getPackNames: warning in .packages(all = TRUE): partial argument match
  of 'all' to 'all.available'
.popPackList: warning in .packages(all = TRUE): partial argument match
  of 'all' to 'all.available'
assignArgs: warning in assign("argsList", value, env = env): partial
  argument match of 'env' to 'envir'
assignLineData: warning in assign("lineData", lineData, env = env):
  partial argument match of 'env' to 'envir'
eExplorer : export: warning in assign(i, temp[[i]], env = .GlobalEnv):
  partial argument match of 'env' to 'envir'
fileWizard : view: warning in read.table(file = args$file, head =
  args$header, sep = args$sep, as.is = TRUE): partial argument match of
  'head' to 'header'
fileWizard : finish: warning in read.table(file = args$file, head =
  args$header, sep = args$sep, as.is = TRUE): partial argument match of
  'head' to 'header'
finish: warning in assign(dataName, dataFile, env = .GlobalEnv):
  partial argument match of 'env' to 'envir'
getRowNames: warning in read.table(file.name, sep = sep, nrow = 3,
  header = header, skip = skip): partial argument match of 'nrow' to
  'nrows'
objNameToList: warning in get(objNames[i], env = env): partial argument
  match of 'env' to 'envir'
objectBrowser : viewEnv: warning in ls(env = env, all = TRUE): partial
  argument match of 'env' to 'envir'
objectBrowser : viewEnv: warning in ls(env = env, all = TRUE): partial
  argument match of 'all' to 'all.names'
objectBrowser : doEnv: warning in ls(env = get(item)): partial argument
  match of 'env' to 'envir'
objectBrowser : up: warning in ls(env = get(selectedObj)): partial
  argument match of 'env' to 'envir'
viewVignette : export: warning in assign(i, temp[[i]], env =
  .GlobalEnv): partial argument match of 'env' to 'envir'
.onLoad: no visible global function definition for ‘addVigs2WinMenu’
fileWizard : brows: no visible global function definition for ‘tkcmd’
formatArg: no visible global function definition for ‘formula’
importPhenoData : getPData: no visible global function definition for
  ‘pData’
objNameToList: no visible global function definition for
  ‘package.contents’
vExplorer : write2VigList: no visible global function definition for
  ‘pkgVignettes’
Undefined global functions or variables:
  addVigs2WinMenu formula pData package.contents pkgVignettes tkcmd
Consider adding
  importFrom("stats", "formula")
to your NAMESPACE file.
* checking Rd files ... OK
* checking Rd metadata ... OK
* checking Rd cross-references ... OK
* checking for missing documentation entries ... OK
* checking for code/documentation mismatches ... OK
* checking Rd \usage sections ... OK
* checking Rd contents ... OK
* checking for unstated dependencies in examples ... OK
* checking files in ‘vignettes’ ... OK
* checking examples ... OK
* checking for unstated dependencies in vignettes ... OK
* checking package vignettes in ‘inst/doc’ ... OK
* checking running R code from vignettes ...
  ‘importWizard.Rnw’... OK
  ‘tkWidgets.Rnw’... OK
 OK
* checking re-building of vignette outputs ... OK
* checking PDF version of manual ... OK
* DONE

Status: 2 NOTEs
See
  ‘/home/biocbuild/bbs-3.18-bioc/meat/tkWidgets.Rcheck/00check.log’
for details.



Installation output

tkWidgets.Rcheck/00install.out

##############################################################################
##############################################################################
###
### Running command:
###
###   /home/biocbuild/bbs-3.18-bioc/R/bin/R CMD INSTALL tkWidgets
###
##############################################################################
##############################################################################


* installing to library ‘/home/biocbuild/bbs-3.18-bioc/R/site-library’
* installing *source* package ‘tkWidgets’ ...
** using staged installation
** R
** inst
** byte-compile and prepare package for lazy loading
** help
*** installing help indices
** building package indices
** installing vignettes
** testing if installed package can be loaded from temporary location
** testing if installed package can be loaded from final location
** testing if installed package keeps a record of temporary installation path
* DONE (tkWidgets)

Tests output


Example timings

tkWidgets.Rcheck/tkWidgets-Ex.timings

nameusersystemelapsed
DPExplorer0.0010.0010.001
WName0.0020.0000.002
appendSepDir0.0010.0000.001
args2XML0.0000.0030.004
argsWidget000
colInfo-class0.0010.0000.001
dataViewer0.0010.0000.000
dbArgsWidget000
eExplorer0.0000.0000.001
fileBrowser000
fileWizard000
getLightTW000
getWvalues0.0020.0000.002
guess.sep0.0060.0000.006
hasChar0.0010.0000.001
importPhenoData000
importWizard0.0010.0000.001
listSelect000
objNameToList0.0040.0000.004
objViewer000
objectBrowser000
pExplorer0.0030.0000.003
pickFiles0.0010.0000.002
pickItems000
pickObjs0.0010.0000.001
setArgsList000
stdType0.0040.0000.003
vExplorer000
values.Widget0.0010.0000.002
widgetRender000