Name | Last modified | Size | Description | |
---|---|---|---|---|
Parent Directory | - | |||
buildsrc-out.txt | 19-May-2024 00:36 | 915 | ||
buildsrc-summary.dcf | 19-May-2024 00:36 | 429 | ||
checksrc-out.txt | 19-May-2024 00:36 | 7.6K | ||
checksrc-summary.dcf | 19-May-2024 00:36 | 430 | ||
install-out.txt | 19-May-2024 00:36 | 1.6K | ||
install-summary.dcf | 19-May-2024 00:36 | 267 | ||