Index of /checkResults/release/bioc-LATEST/tidySingleCellExperiment/raw-results/palomino3

[ICO]NameLast modifiedSizeDescription

[DIR]Parent Directory  -  
[TXT]buildbin-out.txt02-Jul-2022 01:07 1.5K 
[   ]buildbin-summary.dcf02-Jul-2022 01:07 614  
[TXT]buildsrc-out.txt02-Jul-2022 01:07 1.0K 
[   ]buildsrc-summary.dcf02-Jul-2022 01:07 518  
[TXT]checksrc-out.txt02-Jul-2022 01:07 4.0K 
[   ]checksrc-summary.dcf02-Jul-2022 01:07 513  
[TXT]install-out.txt02-Jul-2022 01:07 1.1K 
[   ]install-summary.dcf02-Jul-2022 01:07 301