![]() | Name | Last modified | Size | Description |
---|---|---|---|---|
![]() | Parent Directory | - | ||
![]() | buildbin-out.txt | 02-Jul-2022 01:08 | 1.3K | |
![]() | buildbin-summary.dcf | 02-Jul-2022 01:08 | 629 | |
![]() | buildsrc-out.txt | 02-Jul-2022 01:08 | 920 | |
![]() | buildsrc-summary.dcf | 02-Jul-2022 01:08 | 477 | |
![]() | checksrc-out.txt | 02-Jul-2022 01:08 | 4.1K | |
![]() | checksrc-summary.dcf | 02-Jul-2022 01:08 | 510 | |
![]() | install-out.txt | 02-Jul-2022 01:08 | 1.1K | |
![]() | install-summary.dcf | 02-Jul-2022 01:08 | 302 | |