Name | Last modified | Size | Description | |
---|---|---|---|---|
Parent Directory | - | |||
buildbin-out.txt | 24-Jul-2024 22:08 | 1.3K | ||
buildbin-summary.dcf | 24-Jul-2024 22:08 | 631 | ||
buildsrc-out.txt | 24-Jul-2024 22:08 | 950 | ||
buildsrc-summary.dcf | 24-Jul-2024 22:08 | 478 | ||
checksrc-out.txt | 24-Jul-2024 22:08 | 4.2K | ||
checksrc-summary.dcf | 24-Jul-2024 22:08 | 512 | ||
install-out.txt | 24-Jul-2024 22:08 | 1.0K | ||
install-summary.dcf | 24-Jul-2024 22:08 | 303 | ||