![]() | Name | Last modified | Size | Description |
---|---|---|---|---|
![]() | Parent Directory | - | ||
![]() | buildsrc-out.txt | 24-Sep-2023 00:35 | 810 | |
![]() | buildsrc-summary.dcf | 24-Sep-2023 00:35 | 420 | |
![]() | checksrc-out.txt | 24-Sep-2023 00:35 | 3.7K | |
![]() | checksrc-summary.dcf | 24-Sep-2023 00:35 | 418 | |
![]() | install-out.txt | 24-Sep-2023 00:35 | 1.0K | |
![]() | install-summary.dcf | 24-Sep-2023 00:35 | 261 | |