Index of /checkResults/release/bioc-LATEST/swfdr/raw-results

[ICO]NameLast modifiedSizeDescription

[DIR]Parent Directory  -  
[   ]info.dcf26-Sep-2023 00:37 306  
[DIR]palomino3/26-Sep-2023 00:36 -  
[DIR]nebbiolo1/26-Sep-2023 00:35 -  
[DIR]merida1/26-Sep-2023 00:37 -