Name | Last modified | Size | Description | |
---|---|---|---|---|
Parent Directory | - | |||
install-summary.dcf | 12-Jun-2024 03:43 | 271 | ||
install-out.txt | 12-Jun-2024 03:43 | 18K | ||
checksrc-summary.dcf | 12-Jun-2024 03:43 | 453 | ||
checksrc-out.txt | 12-Jun-2024 03:43 | 4.3K | ||
buildsrc-summary.dcf | 12-Jun-2024 03:43 | 430 | ||
buildsrc-out.txt | 12-Jun-2024 03:43 | 916 | ||
buildbin-summary.dcf | 12-Jun-2024 03:43 | 536 | ||
buildbin-out.txt | 12-Jun-2024 03:43 | 20K | ||