Index of /checkResults/release/bioc-LATEST/supersigs/raw-results/nebbiolo1

[ICO]NameLast modifiedSizeDescription

[DIR]Parent Directory  -  
[TXT]buildsrc-out.txt04-Oct-2023 00:36 813  
[   ]buildsrc-summary.dcf04-Oct-2023 00:36 421  
[TXT]checksrc-out.txt04-Oct-2023 00:36 3.9K 
[   ]checksrc-summary.dcf04-Oct-2023 00:36 420  
[TXT]install-out.txt04-Oct-2023 00:36 1.0K 
[   ]install-summary.dcf04-Oct-2023 00:36 262