Name | Last modified | Size | Description | |
---|---|---|---|---|
Parent Directory | - | |||
buildsrc-out.txt | 10-May-2024 00:41 | 825 | ||
buildsrc-summary.dcf | 10-May-2024 00:41 | 434 | ||
checksrc-out.txt | 09-May-2024 00:41 | 3.8K | ||
checksrc-summary.dcf | 09-May-2024 00:41 | 459 | ||
install-out.txt | 10-May-2024 00:41 | 1.0K | ||
install-summary.dcf | 10-May-2024 00:41 | 274 | ||