Name | Last modified | Size | Description | |
---|---|---|---|---|
Parent Directory | - | |||
buildbin-out.txt | 05-Mar-2024 01:37 | 1.1K | ||
buildbin-summary.dcf | 05-Mar-2024 01:37 | 535 | ||
buildsrc-out.txt | 05-Mar-2024 01:37 | 748 | ||
buildsrc-summary.dcf | 05-Mar-2024 01:37 | 429 | ||
checksrc-out.txt | 05-Mar-2024 01:37 | 3.5K | ||
checksrc-summary.dcf | 05-Mar-2024 01:37 | 447 | ||
install-out.txt | 05-Mar-2024 01:37 | 966 | ||
install-summary.dcf | 05-Mar-2024 01:37 | 271 | ||